BEGIN:VCALENDAR
VERSION:2.0
PRODID:-//Victoria Motorcycle Club Inc. - ECPv6.15.20//NONSGML v1.0//EN
CALSCALE:GREGORIAN
METHOD:PUBLISH
X-WR-CALNAME:Victoria Motorcycle Club Inc.
X-ORIGINAL-URL:https://vicclub.co.nz
X-WR-CALDESC:Events for Victoria Motorcycle Club Inc.
REFRESH-INTERVAL;VALUE=DURATION:PT1H
X-Robots-Tag:noindex
X-PUBLISHED-TTL:PT1H
BEGIN:VTIMEZONE
TZID:Pacific/Auckland
BEGIN:STANDARD
TZOFFSETFROM:+1300
TZOFFSETTO:+1200
TZNAME:NZST
DTSTART:20210403T140000
END:STANDARD
BEGIN:DAYLIGHT
TZOFFSETFROM:+1200
TZOFFSETTO:+1300
TZNAME:NZDT
DTSTART:20210925T140000
END:DAYLIGHT
BEGIN:STANDARD
TZOFFSETFROM:+1300
TZOFFSETTO:+1200
TZNAME:NZST
DTSTART:20220402T140000
END:STANDARD
BEGIN:DAYLIGHT
TZOFFSETFROM:+1200
TZOFFSETTO:+1300
TZNAME:NZDT
DTSTART:20220924T140000
END:DAYLIGHT
BEGIN:STANDARD
TZOFFSETFROM:+1300
TZOFFSETTO:+1200
TZNAME:NZST
DTSTART:20230401T140000
END:STANDARD
BEGIN:DAYLIGHT
TZOFFSETFROM:+1200
TZOFFSETTO:+1300
TZNAME:NZDT
DTSTART:20230923T140000
END:DAYLIGHT
END:VTIMEZONE
BEGIN:VEVENT
DTSTART;VALUE=DATE:20220326
DTEND;VALUE=DATE:20220327
DTSTAMP:20260423T214624
CREATED:20220103T232115Z
LAST-MODIFIED:20220305T231922Z
UID:2805-1648252800-1648339199@vicclub.co.nz
SUMMARY:Vic Club Training Day
DESCRIPTION:Open to all road riders and racers alike\, this is a training day preceding Round One of the Vic Club TSS Motorcycles Summer road race series.\n\nOur training days are fun friendly and inclusive events where everybody is welcome and equal no matter what type of bike or rider experience they currently have.\n\nSlightly different in concept to a general ‘track day’\, our training days are geared to helping our club racers focus on developing their own specific skill areas\, and for road riders to hone their road handling skills and learn something about themselves and their bikes in the safest possible environment.\n\nEntry form available soon.
URL:https://vicclub.co.nz/event/vic-club-training-day-2/
LOCATION:Manfeild Circuit Chris Amon\, 59 South Street\, Feilding\, 4702\, New Zealand
CATEGORIES:Race Series,Vic Club Track Days
END:VEVENT
END:VCALENDAR