BEGIN:VCALENDAR
VERSION:2.0
PRODID:-//Victoria Motorcycle Club Inc. - ECPv6.15.17.1//NONSGML v1.0//EN
CALSCALE:GREGORIAN
METHOD:PUBLISH
X-ORIGINAL-URL:https://vicclub.co.nz
X-WR-CALDESC:Events for Victoria Motorcycle Club Inc.
REFRESH-INTERVAL;VALUE=DURATION:PT1H
X-Robots-Tag:noindex
X-PUBLISHED-TTL:PT1H
BEGIN:VTIMEZONE
TZID:Pacific/Auckland
BEGIN:STANDARD
TZOFFSETFROM:+1300
TZOFFSETTO:+1200
TZNAME:NZST
DTSTART:20180331T140000
END:STANDARD
BEGIN:DAYLIGHT
TZOFFSETFROM:+1200
TZOFFSETTO:+1300
TZNAME:NZDT
DTSTART:20180929T140000
END:DAYLIGHT
BEGIN:STANDARD
TZOFFSETFROM:+1300
TZOFFSETTO:+1200
TZNAME:NZST
DTSTART:20190406T140000
END:STANDARD
BEGIN:DAYLIGHT
TZOFFSETFROM:+1200
TZOFFSETTO:+1300
TZNAME:NZDT
DTSTART:20190928T140000
END:DAYLIGHT
BEGIN:STANDARD
TZOFFSETFROM:+1300
TZOFFSETTO:+1200
TZNAME:NZST
DTSTART:20200404T140000
END:STANDARD
BEGIN:DAYLIGHT
TZOFFSETFROM:+1200
TZOFFSETTO:+1300
TZNAME:NZDT
DTSTART:20200926T140000
END:DAYLIGHT
BEGIN:STANDARD
TZOFFSETFROM:+1300
TZOFFSETTO:+1200
TZNAME:NZST
DTSTART:20210403T140000
END:STANDARD
BEGIN:DAYLIGHT
TZOFFSETFROM:+1200
TZOFFSETTO:+1300
TZNAME:NZDT
DTSTART:20210925T140000
END:DAYLIGHT
BEGIN:STANDARD
TZOFFSETFROM:+1300
TZOFFSETTO:+1200
TZNAME:NZST
DTSTART:20220402T140000
END:STANDARD
BEGIN:DAYLIGHT
TZOFFSETFROM:+1200
TZOFFSETTO:+1300
TZNAME:NZDT
DTSTART:20220924T140000
END:DAYLIGHT
BEGIN:STANDARD
TZOFFSETFROM:+1300
TZOFFSETTO:+1200
TZNAME:NZST
DTSTART:20230401T140000
END:STANDARD
BEGIN:DAYLIGHT
TZOFFSETFROM:+1200
TZOFFSETTO:+1300
TZNAME:NZDT
DTSTART:20230923T140000
END:DAYLIGHT
BEGIN:STANDARD
TZOFFSETFROM:+1300
TZOFFSETTO:+1200
TZNAME:NZST
DTSTART:20240406T140000
END:STANDARD
BEGIN:DAYLIGHT
TZOFFSETFROM:+1200
TZOFFSETTO:+1300
TZNAME:NZDT
DTSTART:20240928T140000
END:DAYLIGHT
END:VTIMEZONE
BEGIN:VEVENT
DTSTART;VALUE=DATE:20230326
DTEND;VALUE=DATE:20230327
DTSTAMP:20260420T013703
CREATED:20221119T001220Z
LAST-MODIFIED:20221119T001220Z
UID:3551-1679788800-1679875199@vicclub.co.nz
SUMMARY:2023 Vic Club TSS Motorcycles Race Series – Round 2
DESCRIPTION:Round 2 of the Vic Club TSS Motorcycles Summer road race series is going to be tight and fun!  Running at Manfeild Circuit Chris Amon\, who will be topping the leader boards after this round\, at what will then be the half way point of the Summer series?\n\nClasses are:\nJunior Trophy – Main Track\nSenior Trophy – Main Track\nIntermediate Trophy (inc. Motards) – Main Track\nMotard Trophy – Short Track\nSenior Sprint Cup – Main Track\nIntermediate Sprint Cup (inc. Motards) – Main Track\n\nHead over to the website for all the race class details and to submit your entry online.
URL:https://vicclub.co.nz/event/2023-vic-club-tss-motorcycles-race-series-round-2/
LOCATION:Manfeild Circuit Chris Amon\, 59 South Street\, Feilding\, 4702\, New Zealand
CATEGORIES:Race Series,Vic Club Racing
END:VEVENT
BEGIN:VEVENT
DTSTART;VALUE=DATE:20230128
DTEND;VALUE=DATE:20230129
DTSTAMP:20260420T013703
CREATED:20221119T000637Z
LAST-MODIFIED:20221119T001253Z
UID:3547-1674864000-1674950399@vicclub.co.nz
SUMMARY:2023 Vic Club TSS Motorcycles Race Series – Round 1
DESCRIPTION:Welcome to the first round of the Vic Club TSS Motorcycles Summer road race series. Running at Taupo International Motorsport Park this is going to be a hot start to the Summer series.\n\nClasses are:\nJunior Trophy – Main Track\nSenior Trophy – Main Track\nIntermediate Trophy (inc. Motards) – Main Track\nMotard Trophy – Short Track\nSenior Sprint Cup – Main Track\nIntermediate Sprint Cup (inc. Motards) – Main Track\n\nHead over to the website for all the race class details\, and to submit your entry online.
URL:https://vicclub.co.nz/event/2023-vic-club-tss-motorcycles-race-series-round-1/
LOCATION:Taupo International Motorsport Park\, 463 Broadlands Road\, Taupo\, 3378\, New Zealand
CATEGORIES:Race Series,Vic Club Racing
END:VEVENT
BEGIN:VEVENT
DTSTART;VALUE=DATE:20220521
DTEND;VALUE=DATE:20220522
DTSTAMP:20260420T013703
CREATED:20220103T233112Z
LAST-MODIFIED:20220305T231406Z
UID:2819-1653091200-1653177599@vicclub.co.nz
SUMMARY:2022 Vic Club TSS Motorcycles Race Series – Round 3
DESCRIPTION:Round 3\, the FINAL round of the Vic Club TSS Motorcycles Summer road race series will be a fantastic finale\, and you’ve got to be in it to win it!!! The last chance to go all out for glory and stake your claim on one of the coveted Vic Club race trophies.\n\nStill at Manfeild’s Circuit Chris Amon. Usual classes:\n\nJunior Trophy – Main Track\nSenior Trophy – Main Track\nIntermediate Trophy (inc. Motards) – Main Track\nMotard Trophy – Short Track\nSenior Sprint Cup – Main Track\nIntermediate Sprint Cup (inc. Motards) – Main Track\n\nHead over to the website for all the race class details and to submit your online entry.
URL:https://vicclub.co.nz/event/2021-vic-club-tss-motorcycles-race-series-round-4/
LOCATION:Manfeild Circuit Chris Amon\, 59 South Street\, Feilding\, 4702\, New Zealand
CATEGORIES:Race Series,Vic Club Racing
END:VEVENT
BEGIN:VEVENT
DTSTART;VALUE=DATE:20220424
DTEND;VALUE=DATE:20220425
DTSTAMP:20260420T013703
CREATED:20220103T232644Z
LAST-MODIFIED:20220305T231340Z
UID:2812-1650758400-1650844799@vicclub.co.nz
SUMMARY:2022 Vic Club TSS Motorcycles Race Series – Round 2
DESCRIPTION:Round 2 of the Vic Club TSS Motorcycles Summer road race series is going to be tight and fun! Running at Manfeild Circuit Chris Amon\, who will be topping the leader boards after this round\, at what will be two thirds of the way through this Summer series?\n\nClasses are:\nJunior Trophy – Main Track\nSenior Trophy – Main Track\nIntermediate Trophy (inc. Motards) – Main Track\nMotard Trophy – Short Track\nSenior Sprint Cup – Main Track\nIntermediate Sprint Cup (inc. Motards) – Main Track\n\nHead over to the website for all the race class details. Entry forms available soon.
URL:https://vicclub.co.nz/event/2021-vic-club-tss-motorcycles-race-series-round-2/
LOCATION:Manfeild Circuit Chris Amon\, 59 South Street\, Feilding\, 4702\, New Zealand
CATEGORIES:Race Series,Vic Club Racing
END:VEVENT
BEGIN:VEVENT
DTSTART;VALUE=DATE:20220327
DTEND;VALUE=DATE:20220328
DTSTAMP:20260420T013703
CREATED:20220103T232219Z
LAST-MODIFIED:20220305T231308Z
UID:2807-1648339200-1648425599@vicclub.co.nz
SUMMARY:2022 Vic Club TSS Motorcycles Race Series – Round 1
DESCRIPTION:Welcome to the first round of the Vic Club TSS Motorcycles Summer road race series. Running at Manfeild\, Circuit Chris Amon in Feilding this is going to be a hot Summer weekend affair.\n\nClasses are:\nJunior Trophy – Main Track\nSenior Trophy – Main Track\nIntermediate Trophy (inc. Motards) – Main Track\nMotard Trophy – Short Track\nSenior Sprint Cup – Main Track\nIntermediate Sprint Cup (inc. Motards) – Main Track\n\nHead over to the website for all the race class details. Entry forms available soon.
URL:https://vicclub.co.nz/event/2807/
LOCATION:Manfeild Circuit Chris Amon\, 59 South Street\, Feilding\, 4702\, New Zealand
CATEGORIES:Race Series,Vic Club Racing
END:VEVENT
BEGIN:VEVENT
DTSTART;VALUE=DATE:20220129
DTEND;VALUE=DATE:20220131
DTSTAMP:20260420T013703
CREATED:20220103T231817Z
LAST-MODIFIED:20220103T231817Z
UID:2803-1643414400-1643587199@vicclub.co.nz
SUMMARY:Vic Club i-Tools Trophy
DESCRIPTION:Welcome to the inaugural Victoria Motorcycle Club i-Tools Trophy. This is a brand new two day race event consisting of a Senior grid (Formula 1 & Formula 2) and an Intermediate grid (Formula 3 & Formula 300).\n\nHeld at Taupo in association with Round 4 of the Speed Works Motorsport NZ Championship this will be a spectacular televised event\, with our motorcycle classes running between car races.\n\nOur two grids will be strictly limited to 38 bikes each so get your entries in asap to secure your spot. Spaces will sell out fast!
URL:https://vicclub.co.nz/event/vic-club-i-tools-trophy/
LOCATION:Taupo International Motorsport Park\, 463 Broadlands Road\, Taupo\, 3378\, New Zealand
CATEGORIES:Vic Club Racing
END:VEVENT
BEGIN:VEVENT
DTSTART;VALUE=DATE:20210522
DTEND;VALUE=DATE:20210523
DTSTAMP:20260420T013703
CREATED:20201123T083104Z
LAST-MODIFIED:20210411T063455Z
UID:1765-1621641600-1621727999@vicclub.co.nz
SUMMARY:2021 TSS Motorcycles Road Race Series – Round 4
DESCRIPTION:
URL:https://vicclub.co.nz/event/2021-tss-motorcycles-road-race-series-round-4/
LOCATION:Manfeild Circuit Chris Amon\, 59 South Street\, Feilding\, 4702\, New Zealand
CATEGORIES:Race Series,Vic Club Racing
END:VEVENT
BEGIN:VEVENT
DTSTART;VALUE=DATE:20210425
DTEND;VALUE=DATE:20210426
DTSTAMP:20260420T013703
CREATED:20200220T082437Z
LAST-MODIFIED:20210108T075832Z
UID:1537-1619308800-1619395199@vicclub.co.nz
SUMMARY:2021 TSS Motorcycles Road Race Series – Round 3
DESCRIPTION:
URL:https://vicclub.co.nz/event/2021-tss-motorcycles-road-race-series-round-3/
LOCATION:Manfeild Circuit Chris Amon\, 59 South Street\, Feilding\, 4702\, New Zealand
CATEGORIES:Race Series,Vic Club Racing
END:VEVENT
BEGIN:VEVENT
DTSTART;VALUE=DATE:20210328
DTEND;VALUE=DATE:20210329
DTSTAMP:20260420T013703
CREATED:20200220T082349Z
LAST-MODIFIED:20210108T075820Z
UID:1535-1616889600-1616975999@vicclub.co.nz
SUMMARY:2021 TSS Motorcycles Road Race Series – Round 2
DESCRIPTION:
URL:https://vicclub.co.nz/event/2021-tss-motorcycles-road-race-series-round-2/
LOCATION:Manfeild Circuit Chris Amon\, 59 South Street\, Feilding\, 4702\, New Zealand
CATEGORIES:Race Series,Vic Club Racing
END:VEVENT
BEGIN:VEVENT
DTSTART;VALUE=DATE:20210131
DTEND;VALUE=DATE:20210201
DTSTAMP:20260420T013703
CREATED:20200220T082215Z
LAST-MODIFIED:20210108T075801Z
UID:1531-1612051200-1612137599@vicclub.co.nz
SUMMARY:2021 TSS Motorcycles Road Race Series – Round 1
DESCRIPTION:
URL:https://vicclub.co.nz/event/2021-tss-motorcycles-road-race-series-round-1/
LOCATION:Taupo International Motorsport Park\, 463 Broadlands Road\, Taupo\, 3378\, New Zealand
CATEGORIES:Race Series,Vic Club Racing
END:VEVENT
BEGIN:VEVENT
DTSTART;VALUE=DATE:20200425
DTEND;VALUE=DATE:20200427
DTSTAMP:20260420T013703
CREATED:20200220T082819Z
LAST-MODIFIED:20200513T041351Z
UID:1542-1587772800-1587945599@vicclub.co.nz
SUMMARY:CANCELLED - BEARs Central Thunder 2020
DESCRIPTION:
URL:https://vicclub.co.nz/event/bears-central-thunder-2020/
LOCATION:Manfeild Circuit Chris Amon\, 59 South Street\, Feilding\, 4702\, New Zealand
CATEGORIES:Other Racing,Vic Club Racing
END:VEVENT
BEGIN:VEVENT
DTSTART;VALUE=DATE:20190413
DTEND;VALUE=DATE:20190415
DTSTAMP:20260420T013703
CREATED:20190220T200203Z
LAST-MODIFIED:20190309T204101Z
UID:753-1555113600-1555286399@vicclub.co.nz
SUMMARY:BEARs Central Thunder 2019
DESCRIPTION:Sign up for BEARs Central Thunder 2019. \nCash prizes for sponsored classes\, and free entry for spectators. \nUnofficial practice will be held on Friday 12th April by MotoTT.
URL:https://vicclub.co.nz/event/bears-central-thunder-2019/
LOCATION:Manfeild Circuit Chris Amon\, 59 South Street\, Feilding\, 4702\, New Zealand
CATEGORIES:Vic Club Racing
END:VEVENT
END:VCALENDAR