BEGIN:VCALENDAR
VERSION:2.0
PRODID:-//Victoria Motorcycle Club Inc. - ECPv6.15.20//NONSGML v1.0//EN
CALSCALE:GREGORIAN
METHOD:PUBLISH
X-ORIGINAL-URL:https://vicclub.co.nz
X-WR-CALDESC:Events for Victoria Motorcycle Club Inc.
REFRESH-INTERVAL;VALUE=DURATION:PT1H
X-Robots-Tag:noindex
X-PUBLISHED-TTL:PT1H
BEGIN:VTIMEZONE
TZID:Pacific/Auckland
BEGIN:STANDARD
TZOFFSETFROM:+1300
TZOFFSETTO:+1200
TZNAME:NZST
DTSTART:20220402T140000
END:STANDARD
BEGIN:DAYLIGHT
TZOFFSETFROM:+1200
TZOFFSETTO:+1300
TZNAME:NZDT
DTSTART:20220924T140000
END:DAYLIGHT
BEGIN:STANDARD
TZOFFSETFROM:+1300
TZOFFSETTO:+1200
TZNAME:NZST
DTSTART:20230401T140000
END:STANDARD
BEGIN:DAYLIGHT
TZOFFSETFROM:+1200
TZOFFSETTO:+1300
TZNAME:NZDT
DTSTART:20230923T140000
END:DAYLIGHT
BEGIN:STANDARD
TZOFFSETFROM:+1300
TZOFFSETTO:+1200
TZNAME:NZST
DTSTART:20240406T140000
END:STANDARD
BEGIN:DAYLIGHT
TZOFFSETFROM:+1200
TZOFFSETTO:+1300
TZNAME:NZDT
DTSTART:20240928T140000
END:DAYLIGHT
END:VTIMEZONE
BEGIN:VEVENT
DTSTART;TZID=Pacific/Auckland:20230422T173000
DTEND;TZID=Pacific/Auckland:20230422T183000
DTSTAMP:20260426T115759
CREATED:20230227T063412Z
LAST-MODIFIED:20230321T082804Z
UID:3773-1682184600-1682188200@vicclub.co.nz
SUMMARY:2023 Vic Club AGM
DESCRIPTION:ALL FINANCIAL CLUB MEMBERS – The Annual General Meeting (AGM) for the Victoria Motorcycle Club\, will be held on Saturday 22nd April at 5.30 pm at in the function room at Manfeild Raceway\, in conjunction with round two of the club’s TSS Motorcycles Road Race Series. There are several positions up for nomination and we are also looking for new blood to ensure the continuation of the committee and the club.
URL:https://vicclub.co.nz/event/2023-vic-club-agm/
LOCATION:Manfeild Circuit Chris Amon\, 59 South Street\, Feilding\, 4702\, New Zealand
CATEGORIES:Race Series,Vic Club General
END:VEVENT
END:VCALENDAR