BEGIN:VCALENDAR
VERSION:2.0
PRODID:-//Victoria Motorcycle Club Inc. - ECPv6.15.20//NONSGML v1.0//EN
CALSCALE:GREGORIAN
METHOD:PUBLISH
X-WR-CALNAME:Victoria Motorcycle Club Inc.
X-ORIGINAL-URL:https://vicclub.co.nz
X-WR-CALDESC:Events for Victoria Motorcycle Club Inc.
REFRESH-INTERVAL;VALUE=DURATION:PT1H
X-Robots-Tag:noindex
X-PUBLISHED-TTL:PT1H
BEGIN:VTIMEZONE
TZID:Pacific/Auckland
BEGIN:STANDARD
TZOFFSETFROM:+1300
TZOFFSETTO:+1200
TZNAME:NZST
DTSTART:20170401T140000
END:STANDARD
BEGIN:DAYLIGHT
TZOFFSETFROM:+1200
TZOFFSETTO:+1300
TZNAME:NZDT
DTSTART:20170923T140000
END:DAYLIGHT
BEGIN:STANDARD
TZOFFSETFROM:+1300
TZOFFSETTO:+1200
TZNAME:NZST
DTSTART:20180331T140000
END:STANDARD
BEGIN:DAYLIGHT
TZOFFSETFROM:+1200
TZOFFSETTO:+1300
TZNAME:NZDT
DTSTART:20180929T140000
END:DAYLIGHT
BEGIN:STANDARD
TZOFFSETFROM:+1300
TZOFFSETTO:+1200
TZNAME:NZST
DTSTART:20190406T140000
END:STANDARD
BEGIN:DAYLIGHT
TZOFFSETFROM:+1200
TZOFFSETTO:+1300
TZNAME:NZDT
DTSTART:20190928T140000
END:DAYLIGHT
END:VTIMEZONE
BEGIN:VEVENT
DTSTART;TZID=Pacific/Auckland:20181226T210000
DTEND;TZID=Pacific/Auckland:20181227T060000
DTSTAMP:20260425T151436
CREATED:20181022T112910Z
LAST-MODIFIED:20181022T112910Z
UID:545-1545858000-1545890400@vicclub.co.nz
SUMMARY:Suzuki Series 2018 – Round 3
DESCRIPTION:
URL:https://vicclub.co.nz/event/suzuki-series-2018-round-3/
LOCATION:Cemetery Circuit\, Wanganui\, New Zealand
CATEGORIES:Other Racing
ORGANIZER;CN="Cemetery Circuit Ltd.":MAILTO:admin@cemeterycircuit.co.nz
END:VEVENT
END:VCALENDAR