BEGIN:VCALENDAR
VERSION:2.0
PRODID:-//Victoria Motorcycle Club Inc. - ECPv6.15.20//NONSGML v1.0//EN
CALSCALE:GREGORIAN
METHOD:PUBLISH
X-WR-CALNAME:Victoria Motorcycle Club Inc.
X-ORIGINAL-URL:https://vicclub.co.nz
X-WR-CALDESC:Events for Victoria Motorcycle Club Inc.
REFRESH-INTERVAL;VALUE=DURATION:PT1H
X-Robots-Tag:noindex
X-PUBLISHED-TTL:PT1H
BEGIN:VTIMEZONE
TZID:Pacific/Auckland
BEGIN:STANDARD
TZOFFSETFROM:+1300
TZOFFSETTO:+1200
TZNAME:NZST
DTSTART:20180331T140000
END:STANDARD
BEGIN:DAYLIGHT
TZOFFSETFROM:+1200
TZOFFSETTO:+1300
TZNAME:NZDT
DTSTART:20180929T140000
END:DAYLIGHT
BEGIN:STANDARD
TZOFFSETFROM:+1300
TZOFFSETTO:+1200
TZNAME:NZST
DTSTART:20190406T140000
END:STANDARD
BEGIN:DAYLIGHT
TZOFFSETFROM:+1200
TZOFFSETTO:+1300
TZNAME:NZDT
DTSTART:20190928T140000
END:DAYLIGHT
BEGIN:STANDARD
TZOFFSETFROM:+1300
TZOFFSETTO:+1200
TZNAME:NZST
DTSTART:20200404T140000
END:STANDARD
BEGIN:DAYLIGHT
TZOFFSETFROM:+1200
TZOFFSETTO:+1300
TZNAME:NZDT
DTSTART:20200926T140000
END:DAYLIGHT
END:VTIMEZONE
BEGIN:VEVENT
DTSTART;VALUE=DATE:20191130
DTEND;VALUE=DATE:20191201
DTSTAMP:20260425T003936
CREATED:20181013T203856Z
LAST-MODIFIED:20190309T203518Z
UID:511-1575072000-1575158399@vicclub.co.nz
SUMMARY:Vic Club Track Training Day
DESCRIPTION:
URL:https://vicclub.co.nz/event/vic-club-track-training-day-6/
LOCATION:Manfeild Circuit Chris Amon\, 59 South Street\, Feilding\, 4702\, New Zealand
CATEGORIES:Vic Club Track Days
END:VEVENT
END:VCALENDAR